BEGIN:VCALENDAR
VERSION:2.0
PRODID:-//Belgium&#039;s Cyber Security Coalition - ECPv6.15.20//NONSGML v1.0//EN
CALSCALE:GREGORIAN
METHOD:PUBLISH
X-WR-CALNAME:Belgium&#039;s Cyber Security Coalition
X-ORIGINAL-URL:https://cybersecuritycoalition.be
X-WR-CALDESC:Events for Belgium&#039;s Cyber Security Coalition
REFRESH-INTERVAL;VALUE=DURATION:PT1H
X-Robots-Tag:noindex
X-PUBLISHED-TTL:PT1H
BEGIN:VTIMEZONE
TZID:Europe/Brussels
BEGIN:DAYLIGHT
TZOFFSETFROM:+0100
TZOFFSETTO:+0200
TZNAME:CEST
DTSTART:20230326T010000
END:DAYLIGHT
BEGIN:STANDARD
TZOFFSETFROM:+0200
TZOFFSETTO:+0100
TZNAME:CET
DTSTART:20231029T010000
END:STANDARD
BEGIN:DAYLIGHT
TZOFFSETFROM:+0100
TZOFFSETTO:+0200
TZNAME:CEST
DTSTART:20240331T010000
END:DAYLIGHT
BEGIN:STANDARD
TZOFFSETFROM:+0200
TZOFFSETTO:+0100
TZNAME:CET
DTSTART:20241027T010000
END:STANDARD
BEGIN:DAYLIGHT
TZOFFSETFROM:+0100
TZOFFSETTO:+0200
TZNAME:CEST
DTSTART:20250330T010000
END:DAYLIGHT
BEGIN:STANDARD
TZOFFSETFROM:+0200
TZOFFSETTO:+0100
TZNAME:CET
DTSTART:20251026T010000
END:STANDARD
END:VTIMEZONE
BEGIN:VEVENT
DTSTART;TZID=Europe/Brussels:20241002T093000
DTEND;TZID=Europe/Brussels:20241004T170000
DTSTAMP:20260421T002216
CREATED:20240911T135730Z
LAST-MODIFIED:20240925T132608Z
UID:20133-1727861400-1728061200@cybersecuritycoalition.be
SUMMARY:EESC-COR Cybersecurity Days 2024
DESCRIPTION:
URL:https://cybersecuritycoalition.be/event/eesc-cor-cybersecurity-days-2024/
LOCATION:Online
CATEGORIES:Partner Events
ATTACH;FMTTYPE=image/jpeg:https://cybersecuritycoalition.be/wp-content/uploads/Cybersecurity-Days-2024.jpg
END:VEVENT
END:VCALENDAR