BEGIN:VCALENDAR
VERSION:2.0
PRODID:-//Belgium&#039;s Cyber Security Coalition - ECPv6.15.20//NONSGML v1.0//EN
CALSCALE:GREGORIAN
METHOD:PUBLISH
X-ORIGINAL-URL:https://cybersecuritycoalition.be
X-WR-CALDESC:Events for Belgium&#039;s Cyber Security Coalition
REFRESH-INTERVAL;VALUE=DURATION:PT1H
X-Robots-Tag:noindex
X-PUBLISHED-TTL:PT1H
BEGIN:VTIMEZONE
TZID:Europe/Brussels
BEGIN:DAYLIGHT
TZOFFSETFROM:+0100
TZOFFSETTO:+0200
TZNAME:CEST
DTSTART:20240331T010000
END:DAYLIGHT
BEGIN:STANDARD
TZOFFSETFROM:+0200
TZOFFSETTO:+0100
TZNAME:CET
DTSTART:20241027T010000
END:STANDARD
BEGIN:DAYLIGHT
TZOFFSETFROM:+0100
TZOFFSETTO:+0200
TZNAME:CEST
DTSTART:20250330T010000
END:DAYLIGHT
BEGIN:STANDARD
TZOFFSETFROM:+0200
TZOFFSETTO:+0100
TZNAME:CET
DTSTART:20251026T010000
END:STANDARD
BEGIN:DAYLIGHT
TZOFFSETFROM:+0100
TZOFFSETTO:+0200
TZNAME:CEST
DTSTART:20260329T010000
END:DAYLIGHT
BEGIN:STANDARD
TZOFFSETFROM:+0200
TZOFFSETTO:+0100
TZNAME:CET
DTSTART:20261025T010000
END:STANDARD
END:VTIMEZONE
BEGIN:VEVENT
DTSTART;TZID=Europe/Brussels:20250605T093000
DTEND;TZID=Europe/Brussels:20250605T180000
DTSTAMP:20260421T223631
CREATED:20250324T160618Z
LAST-MODIFIED:20250422T160305Z
UID:22655-1749115800-1749146400@cybersecuritycoalition.be
SUMMARY:Application Security Experience Sharing Day
DESCRIPTION:
URL:https://cybersecuritycoalition.be/event/application-security-experience-sharing-day/
LOCATION:Faculty Club\, Groot Begijnhof 14\, Louvain\, 3000\, Belgium
CATEGORIES:Experience Sharing
ATTACH;FMTTYPE=image/png:https://cybersecuritycoalition.be/wp-content/uploads/CSC-App-Security-2025-Website.png
ORGANIZER;CN="Cyber Security Coalition":MAILTO:info@cybersecuritycoalition.be
END:VEVENT
BEGIN:VEVENT
DTSTART;TZID=Europe/Brussels:20250619T050000
DTEND;TZID=Europe/Brussels:20250619T210000
DTSTAMP:20260421T223631
CREATED:20250417T075324Z
LAST-MODIFIED:20250417T075427Z
UID:23920-1750309200-1750366800@cybersecuritycoalition.be
SUMMARY:Solstice Event - Cyber Intel 2025 - Anticipate\, Adapt\, Defend
DESCRIPTION:
URL:https://cybersecuritycoalition.be/event/solstice-event-cyber-intel-2025-anticipate-adapt-defend/
LOCATION:Mastercard\, Chaussée de Tervuren 198A\, Waterloo\, 1410\, Belgium
CATEGORIES:Experience Sharing
ATTACH;FMTTYPE=image/png:https://cybersecuritycoalition.be/wp-content/uploads/CSC-Solstice-2025.png
ORGANIZER;CN="Cyber Security Coalition":MAILTO:info@cybersecuritycoalition.be
END:VEVENT
END:VCALENDAR