BEGIN:VCALENDAR
VERSION:2.0
PRODID:-//Belgium&#039;s Cyber Security Coalition - ECPv6.15.20//NONSGML v1.0//EN
CALSCALE:GREGORIAN
METHOD:PUBLISH
X-WR-CALNAME:Belgium&#039;s Cyber Security Coalition
X-ORIGINAL-URL:https://cybersecuritycoalition.be
X-WR-CALDESC:Events for Belgium&#039;s Cyber Security Coalition
REFRESH-INTERVAL;VALUE=DURATION:PT1H
X-Robots-Tag:noindex
X-PUBLISHED-TTL:PT1H
BEGIN:VTIMEZONE
TZID:Europe/Brussels
BEGIN:DAYLIGHT
TZOFFSETFROM:+0100
TZOFFSETTO:+0200
TZNAME:CEST
DTSTART:20240331T010000
END:DAYLIGHT
BEGIN:STANDARD
TZOFFSETFROM:+0200
TZOFFSETTO:+0100
TZNAME:CET
DTSTART:20241027T010000
END:STANDARD
BEGIN:DAYLIGHT
TZOFFSETFROM:+0100
TZOFFSETTO:+0200
TZNAME:CEST
DTSTART:20250330T010000
END:DAYLIGHT
BEGIN:STANDARD
TZOFFSETFROM:+0200
TZOFFSETTO:+0100
TZNAME:CET
DTSTART:20251026T010000
END:STANDARD
BEGIN:DAYLIGHT
TZOFFSETFROM:+0100
TZOFFSETTO:+0200
TZNAME:CEST
DTSTART:20260329T010000
END:DAYLIGHT
BEGIN:STANDARD
TZOFFSETFROM:+0200
TZOFFSETTO:+0100
TZNAME:CET
DTSTART:20261025T010000
END:STANDARD
END:VTIMEZONE
BEGIN:VEVENT
DTSTART;TZID=Europe/Brussels:20250327T093000
DTEND;TZID=Europe/Brussels:20250327T103000
DTSTAMP:20260422T033028
CREATED:20241029T084613Z
LAST-MODIFIED:20241029T084717Z
UID:20557-1743067800-1743071400@cybersecuritycoalition.be
SUMMARY:General Assembly 2025
DESCRIPTION:
URL:https://cybersecuritycoalition.be/event/general-assembly-2024/
LOCATION:VBO FEB\, Rue Ravensteinstraat 4\, Brussels\, Brussels\, 1000\, Belgium
CATEGORIES:Experience Sharing
ATTACH;FMTTYPE=image/jpeg:https://cybersecuritycoalition.be/wp-content/uploads/General-Assembly-2024.jpg
ORGANIZER;CN="Cyber Security Coalition":MAILTO:info@cybersecuritycoalition.be
END:VEVENT
BEGIN:VEVENT
DTSTART;TZID=Europe/Brussels:20250327T103000
DTEND;TZID=Europe/Brussels:20250327T190000
DTSTAMP:20260422T033028
CREATED:20250123T145504Z
LAST-MODIFIED:20250129T104204Z
UID:22042-1743071400-1743102000@cybersecuritycoalition.be
SUMMARY:GRC: Be Connected! Lustrum event
DESCRIPTION:
URL:https://cybersecuritycoalition.be/event/grc-be-connected-lustrum-event/
LOCATION:VBO FEB\, Rue Ravensteinstraat 4\, Brussels\, Brussels\, 1000\, Belgium
CATEGORIES:Experience Sharing
ATTACH;FMTTYPE=image/png:https://cybersecuritycoalition.be/wp-content/uploads/CSC-GRC-2025-Square-Social-Post-Final.png
ORGANIZER;CN="Cyber Security Coalition":MAILTO:info@cybersecuritycoalition.be
END:VEVENT
END:VCALENDAR