BEGIN:VCALENDAR
VERSION:2.0
PRODID:-//Belgium&#039;s Cyber Security Coalition - ECPv6.15.20//NONSGML v1.0//EN
CALSCALE:GREGORIAN
METHOD:PUBLISH
X-WR-CALNAME:Belgium&#039;s Cyber Security Coalition
X-ORIGINAL-URL:https://cybersecuritycoalition.be
X-WR-CALDESC:Events for Belgium&#039;s Cyber Security Coalition
REFRESH-INTERVAL;VALUE=DURATION:PT1H
X-Robots-Tag:noindex
X-PUBLISHED-TTL:PT1H
BEGIN:VTIMEZONE
TZID:Europe/Brussels
BEGIN:DAYLIGHT
TZOFFSETFROM:+0100
TZOFFSETTO:+0200
TZNAME:CEST
DTSTART:20230326T010000
END:DAYLIGHT
BEGIN:STANDARD
TZOFFSETFROM:+0200
TZOFFSETTO:+0100
TZNAME:CET
DTSTART:20231029T010000
END:STANDARD
BEGIN:DAYLIGHT
TZOFFSETFROM:+0100
TZOFFSETTO:+0200
TZNAME:CEST
DTSTART:20240331T010000
END:DAYLIGHT
BEGIN:STANDARD
TZOFFSETFROM:+0200
TZOFFSETTO:+0100
TZNAME:CET
DTSTART:20241027T010000
END:STANDARD
BEGIN:DAYLIGHT
TZOFFSETFROM:+0100
TZOFFSETTO:+0200
TZNAME:CEST
DTSTART:20250330T010000
END:DAYLIGHT
BEGIN:STANDARD
TZOFFSETFROM:+0200
TZOFFSETTO:+0100
TZNAME:CET
DTSTART:20251026T010000
END:STANDARD
END:VTIMEZONE
BEGIN:VEVENT
DTSTART;VALUE=DATE:20241008
DTEND;VALUE=DATE:20241009
DTSTAMP:20260422T111818
CREATED:20240722T145634Z
LAST-MODIFIED:20240902T132032Z
UID:17917-1728345600-1728431999@cybersecuritycoalition.be
SUMMARY:BE-CYBER Experience Sharing Day 2024
DESCRIPTION:
URL:https://cybersecuritycoalition.be/event/be-cyber-experience-sharing-day-2024/
LOCATION:BluePoint\, Boulevard Auguste Reyerslaan 80\, Brussels\, 1030\, Belgium
CATEGORIES:Experience Sharing
ATTACH;FMTTYPE=image/png:https://cybersecuritycoalition.be/wp-content/uploads/BE-CYBER-2024-Website-Agenda-David.png
ORGANIZER;CN="Cyber Security Coalition":MAILTO:info@cybersecuritycoalition.be
END:VEVENT
BEGIN:VEVENT
DTSTART;TZID=Europe/Brussels:20241014T170000
DTEND;TZID=Europe/Brussels:20241014T213000
DTSTAMP:20260422T111818
CREATED:20240903T133635Z
LAST-MODIFIED:20240903T134459Z
UID:19754-1728925200-1728941400@cybersecuritycoalition.be
SUMMARY:Integrating IT Governance for a Secure Future – Challenges\, and Shaping our Research Agenda
DESCRIPTION:Dear Coalition member\, \nWe are pleased to invite you to join the event “Integrating IT Governance for a Secure Future” on the 14 of October 2024 co-hosted by ISACA Belgium Chapter\, ISACA Netherlands Chapter\, and Antwerp Management School with the cooperation of the Cyber Security Coalition and Beltug. \nWhy Attend? \nThis event will bring together leading experts and professionals to discuss the latest trends\, challenges\, and strategies in IT governance.  In addition\, we will kick-off a research program examining the role of IT governance within governmental institutions.  To this end\, we invite you to participate in an engaging discussion that will shed light on crucial concerns and issues associated with the creation of substantial value through exceptional IT governance. Whether you’re involved in IT management\, cybersecurity\, or governance\, this event offers valuable insights to help you stay ahead in this rapidly evolving field. \n  \n  \n  \nTentative agenda: \n\n17:00 – 17:45: Welcome Drinks\n17:45 – 18h00: Welcome and introduction (Dr. Koen De Maere\, Dr. Barry Derksen)\n18:00 – 18:20: Keynote Dr. Steven De Haes\, PhD\, Dean of Antwerp Management School\, will deliver the keynote address\, sharing his expertise on IT governance and COBIT.\n18:20 – 19:15:\n\nIT governance at governmental institutions: key learnings and challenges\nEngage in an interactive session with experts focusing on digital trust and governance.\n\n\n19:15 – 19:45: Lessons Learned and Tips\n19:45 – 20:15: Q&A Session\n20:15 – 21:30: Networking\n\n  \nTo learn more and register\, please visit the event page: Integrating IT Governance for a Secure Future. \nDon’t miss this opportunity to enhance your understanding of IT governance and its critical role in today’s digital environment. We look forward to seeing you there!
URL:https://cybersecuritycoalition.be/event/integrating-it-governance-for-a-secure-future-challenges-and-shaping-our-research-agenda/
LOCATION:AMS – Antwerp Management School\, Boogkeers 5\, Antwerp\, 2000\, Belgium
CATEGORIES:Experience Sharing
ATTACH;FMTTYPE=image/jpeg:https://cybersecuritycoalition.be/wp-content/uploads/General-visual-INTEGRATING-IT.jpg
ORGANIZER;CN="Cyber Security Coalition":MAILTO:info@cybersecuritycoalition.be
END:VEVENT
END:VCALENDAR